BEGIN:VCALENDAR
VERSION:2.0
PRODID:HAZ Events
BEGIN:VEVENT
UID:
DTSTAMP:1776771938
SUMMARY:Kaffeetrinken und Spielnachmittag
LOCATION:
CLASS:PUBLIC
DTSTART:20260720T120000Z
DTEND:20260720T150000Z
END:VEVENT
END:VCALENDAR