BEGIN:VCALENDAR
VERSION:2.0
PRODID:HAZ Events
BEGIN:VEVENT
UID:
DTSTAMP:1776767596
SUMMARY:Hebammensprechstunde
LOCATION:
CLASS:PUBLIC
DTSTART:20260720T123000Z
DTEND:20260720T140000Z
END:VEVENT
END:VCALENDAR