BEGIN:VCALENDAR
VERSION:2.0
PRODID:HAZ Events
BEGIN:VEVENT
UID:
DTSTAMP:1776846487
SUMMARY:Gespr&auml;chsgruppe f&uuml;r Betroffene
LOCATION:
CLASS:PUBLIC
DTSTART:20260721T120000Z
DTEND:20260721T133000Z
END:VEVENT
END:VCALENDAR