BEGIN:VCALENDAR
VERSION:2.0
PRODID:HAZ Events
BEGIN:VEVENT
UID:
DTSTAMP:1776877581
SUMMARY:ADFC Fahrrad-Selbsthilfewerkstatt f&uuml;r alle
LOCATION:
CLASS:PUBLIC
DTSTART:20260428T153000Z
DTEND:20260428T170000Z
END:VEVENT
END:VCALENDAR