BEGIN:VCALENDAR
VERSION:2.0
PRODID:HAZ Events
BEGIN:VEVENT
UID:
DTSTAMP:1776684508
SUMMARY:Regeln sind zum Brechen da!
LOCATION:Museum Wilhelm Busch
CLASS:PUBLIC
DTSTART:20260719T090000Z
DTEND:20260719T150000Z
END:VEVENT
END:VCALENDAR