BEGIN:VCALENDAR
VERSION:2.0
PRODID:HAZ Events
BEGIN:VEVENT
UID:
DTSTAMP:1776678748
SUMMARY:Spielenachmittag
LOCATION:Kultur-Rathaus Vinnhorst
CLASS:PUBLIC
DTSTART:20260527T140000Z
DTEND:20260527T160000Z
END:VEVENT
END:VCALENDAR