BEGIN:VCALENDAR
VERSION:2.0
PRODID:HAZ Events
BEGIN:VEVENT
UID:
DTSTAMP:1776678868
SUMMARY:Spielenachmittag
LOCATION:Kultur-Rathaus Vinnhorst
CLASS:PUBLIC
DTSTART:20260513T140000Z
DTEND:20260513T160000Z
END:VEVENT
END:VCALENDAR