BEGIN:VCALENDAR
VERSION:2.0
PRODID:HAZ Events
BEGIN:VEVENT
UID:
DTSTAMP:1776759026
SUMMARY:Kamishibai
LOCATION:Stadt- und Schulbibliothek M&uuml;hlenberg
CLASS:PUBLIC
DTSTART:20260515T140000Z
DTEND:20260515T160000Z
END:VEVENT
END:VCALENDAR