BEGIN:VCALENDAR
VERSION:2.0
PRODID:HAZ Events
BEGIN:VEVENT
UID:
DTSTAMP:1776864273
SUMMARY:Vom Knipsen zur Fotografie
LOCATION:Berggarten
CLASS:PUBLIC
DTSTART:20260430T070000Z
DTEND:20260430T160000Z
END:VEVENT
END:VCALENDAR