BEGIN:VCALENDAR
VERSION:2.0
PRODID:HAZ Events
BEGIN:VEVENT
UID:
DTSTAMP:1776846360
SUMMARY:Stadtkirchen&ouml;ffnung f&uuml;r Gebet und stille Einkehr
LOCATION:
CLASS:PUBLIC
DTSTART:20260721T130000Z
DTEND:20260721T150000Z
END:VEVENT
END:VCALENDAR