BEGIN:VCALENDAR
VERSION:2.0
PRODID:HAZ Events
BEGIN:VEVENT
UID:
DTSTAMP:1776786240
SUMMARY:Stadtkirchen&ouml;ffnung f&uuml;r Gebet und stille Einkehr
LOCATION:
CLASS:PUBLIC
DTSTART:20260717T080000Z
DTEND:20260717T100000Z
END:VEVENT
END:VCALENDAR