BEGIN:VCALENDAR
VERSION:2.0
PRODID:HAZ Events
BEGIN:VEVENT
UID:
DTSTAMP:1776859272
SUMMARY:Hamlet: R2D2 or not 2B2
LOCATION:Schauspielhaus
CLASS:PUBLIC
DTSTART:20260426T150000Z
DTEND:20260426T170000Z
END:VEVENT
END:VCALENDAR