BEGIN:VCALENDAR
VERSION:2.0
PRODID:HAZ Events
BEGIN:VEVENT
UID:
DTSTAMP:1776846371
SUMMARY:Spiele am Nachmittag
LOCATION:
CLASS:PUBLIC
DTSTART:20260721T120000Z
DTEND:20260721T150000Z
END:VEVENT
END:VCALENDAR