BEGIN:VCALENDAR
VERSION:2.0
PRODID:HAZ Events
BEGIN:VEVENT
UID:
DTSTAMP:1776851664
SUMMARY:Einfach Singen
LOCATION:Kulturtreff Hainholz
CLASS:PUBLIC
DTSTART:20260721T080000Z
DTEND:20260721T090000Z
END:VEVENT
END:VCALENDAR