BEGIN:VCALENDAR
VERSION:2.0
PRODID:HAZ Events
BEGIN:VEVENT
UID:
DTSTAMP:1776846747
SUMMARY:Seniorennachmittag
LOCATION:Pfarrheim St. Franziskus
CLASS:PUBLIC
DTSTART:20260721T123000Z
DTEND:20260721T143000Z
END:VEVENT
END:VCALENDAR