BEGIN:VCALENDAR
VERSION:2.0
PRODID:HAZ Events
BEGIN:VEVENT
UID:
DTSTAMP:1776781068
SUMMARY:Schachjugend
LOCATION:Bredenbecker Scheune
CLASS:PUBLIC
DTSTART:20260717T143000Z
DTEND:20260717T163000Z
END:VEVENT
END:VCALENDAR