BEGIN:VCALENDAR
VERSION:2.0
PRODID:HAZ Events
BEGIN:VEVENT
UID:
DTSTAMP:1776689371
SUMMARY:Beratung f&uuml;r alle Menschen mit und ohne Migrationshintergrund
LOCATION:
CLASS:PUBLIC
DTSTART:20260718T080000Z
DTEND:20260718T100000Z
END:VEVENT
END:VCALENDAR