BEGIN:VCALENDAR
VERSION:2.0
PRODID:HAZ Events
BEGIN:VEVENT
UID:
DTSTAMP:1776771764
SUMMARY:Offener Treff
LOCATION:Frauen- und M&uuml;tterzentrum
CLASS:PUBLIC
DTSTART:20260720T094500Z
DTEND:20260720T114500Z
END:VEVENT
END:VCALENDAR