BEGIN:VCALENDAR
VERSION:2.0
PRODID:HAZ Events
BEGIN:VEVENT
UID:
DTSTAMP:1776767589
SUMMARY:DGB-Chor Hannover
LOCATION:FZH Linden
CLASS:PUBLIC
DTSTART:20260720T173000Z
DTEND:20260720T193000Z
END:VEVENT
END:VCALENDAR