BEGIN:VCALENDAR
VERSION:2.0
PRODID:HAZ Events
BEGIN:VEVENT
UID:
DTSTAMP:1776759177
SUMMARY:Therapie f&uuml;r Wikinger
LOCATION:Apollo
CLASS:PUBLIC
DTSTART:20260514T181500Z
DTEND:20260514T201500Z
END:VEVENT
END:VCALENDAR