BEGIN:VCALENDAR
VERSION:2.0
PRODID:HAZ Events
BEGIN:VEVENT
UID:
DTSTAMP:1776835385
SUMMARY:Bauen mit Lego
LOCATION:Oststadtbibliothek
CLASS:PUBLIC
DTSTART:20260502T080000Z
DTEND:20260502T120000Z
END:VEVENT
END:VCALENDAR