BEGIN:VCALENDAR
VERSION:2.0
PRODID:HAZ Events
BEGIN:VEVENT
UID:
DTSTAMP:1776851446
SUMMARY:Kreativgruppe
LOCATION:
CLASS:PUBLIC
DTSTART:20260721T080000Z
DTEND:20260721T100000Z
END:VEVENT
END:VCALENDAR