BEGIN:VCALENDAR
VERSION:2.0
PRODID:HAZ Events
BEGIN:VEVENT
UID:
DTSTAMP:1776767584
SUMMARY:Kaufsucht-Gespr&auml;chsgruppe
LOCATION:
CLASS:PUBLIC
DTSTART:20260720T131500Z
DTEND:20260720T144500Z
END:VEVENT
END:VCALENDAR