BEGIN:VCALENDAR
VERSION:2.0
PRODID:HAZ Events
BEGIN:VEVENT
UID:
DTSTAMP:1776864198
SUMMARY:In die Sonne schauen
LOCATION:Apollo
CLASS:PUBLIC
DTSTART:20260429T181500Z
DTEND:20260429T201500Z
END:VEVENT
END:VCALENDAR