BEGIN:VCALENDAR
VERSION:2.0
PRODID:HAZ Events
BEGIN:VEVENT
UID:
DTSTAMP:1776840913
SUMMARY:Bugonia (engl. OmU)
LOCATION:Apollo
CLASS:PUBLIC
DTSTART:20260501T203000Z
DTEND:20260501T223000Z
END:VEVENT
END:VCALENDAR