BEGIN:VCALENDAR
VERSION:2.0
PRODID:HAZ Events
BEGIN:VEVENT
UID:
DTSTAMP:1776840819
SUMMARY:Davon k&ouml;nnen wir ein Lied singen!
LOCATION:
CLASS:PUBLIC
DTSTART:20260721T173000Z
DTEND:20260721T193000Z
END:VEVENT
END:VCALENDAR