BEGIN:VCALENDAR
VERSION:2.0
PRODID:HAZ Events
BEGIN:VEVENT
UID:
DTSTAMP:1776780904
SUMMARY:Spielenachmittag f&uuml;r Senioren
LOCATION:
CLASS:PUBLIC
DTSTART:20260717T120000Z
DTEND:20260717T150000Z
END:VEVENT
END:VCALENDAR