BEGIN:VCALENDAR
VERSION:2.0
PRODID:HAZ Events
BEGIN:VEVENT
UID:
DTSTAMP:1776851395
SUMMARY:Literaturstunde der B&uuml;rgerstiftung Hemmingen
LOCATION:
CLASS:PUBLIC
DTSTART:20260721T090000Z
DTEND:20260721T110000Z
END:VEVENT
END:VCALENDAR