BEGIN:VCALENDAR
VERSION:2.0
PRODID:HAZ Events
BEGIN:VEVENT
UID:
DTSTAMP:1776786071
SUMMARY:GehSpr&auml;ch: Lust auf Bewegung und Austausch?
LOCATION:
CLASS:PUBLIC
DTSTART:20260717T080000Z
DTEND:20260717T100000Z
END:VEVENT
END:VCALENDAR