BEGIN:VCALENDAR
VERSION:2.0
PRODID:HAZ Events
BEGIN:VEVENT
UID:
DTSTAMP:1776864708
SUMMARY:Sitzgymnastik
LOCATION:
CLASS:PUBLIC
DTSTART:20260427T080000Z
DTEND:20260427T100000Z
END:VEVENT
END:VCALENDAR