BEGIN:VCALENDAR
VERSION:2.0
PRODID:HAZ Events
BEGIN:VEVENT
UID:
DTSTAMP:1776840897
SUMMARY:Neuer Ju-Jutsu Anf&auml;ngerkurs
LOCATION:
CLASS:PUBLIC
DTSTART:20260721T153000Z
DTEND:20260721T173000Z
END:VEVENT
END:VCALENDAR