BEGIN:VCALENDAR
VERSION:2.0
PRODID:HAZ Events
BEGIN:VEVENT
UID:
DTSTAMP:1776771876
SUMMARY:Wirbels&auml;ulengesundheitskurs
LOCATION:
CLASS:PUBLIC
DTSTART:20260720T070000Z
DTEND:20260720T090000Z
END:VEVENT
END:VCALENDAR