BEGIN:VCALENDAR
VERSION:2.0
PRODID:HAZ Events
BEGIN:VEVENT
UID:
DTSTAMP:1776875029
SUMMARY:&Uuml;stra-Infomobil
LOCATION:
CLASS:PUBLIC
DTSTART:20260429T080000Z
DTEND:20260429T140000Z
END:VEVENT
END:VCALENDAR