BEGIN:VCALENDAR
VERSION:2.0
PRODID:HAZ Events
BEGIN:VEVENT
UID:
DTSTAMP:1776851723
SUMMARY:Gymnastik f&uuml;r Senioren/-innen
LOCATION:
CLASS:PUBLIC
DTSTART:20260721T073000Z
DTEND:20260721T083000Z
END:VEVENT
END:VCALENDAR