BEGIN:VCALENDAR
VERSION:2.0
PRODID:HAZ Events
BEGIN:VEVENT
UID:
DTSTAMP:1776689374
SUMMARY:Repair Caf&eacute;
LOCATION:
CLASS:PUBLIC
DTSTART:20260718T120000Z
DTEND:20260718T150000Z
END:VEVENT
END:VCALENDAR