BEGIN:VCALENDAR
VERSION:2.0
PRODID:HAZ Events
BEGIN:VEVENT
UID:
DTSTAMP:1776780911
SUMMARY:Offenes Seniorencafe
LOCATION:
CLASS:PUBLIC
DTSTART:20260717T130000Z
DTEND:20260717T150000Z
END:VEVENT
END:VCALENDAR