BEGIN:VCALENDAR
VERSION:2.0
PRODID:HAZ Events
BEGIN:VEVENT
UID:
DTSTAMP:1776846644
SUMMARY:Offenes Singen
LOCATION:Mehrgenerationenhaus
CLASS:PUBLIC
DTSTART:20260721T130000Z
DTEND:20260721T140000Z
END:VEVENT
END:VCALENDAR