BEGIN:VCALENDAR
VERSION:2.0
PRODID:HAZ Events
BEGIN:VEVENT
UID:
DTSTAMP:1776858660
SUMMARY:Leibniz &ndash; Chronik eines verschollenen Bildes
LOCATION:Apollo
CLASS:PUBLIC
DTSTART:20260430T160000Z
DTEND:20260430T180000Z
END:VEVENT
END:VCALENDAR