BEGIN:VCALENDAR
VERSION:2.0
PRODID:HAZ Events
BEGIN:VEVENT
UID:
DTSTAMP:1776846731
SUMMARY:Sportstunde f&uuml;r Diabetiker und Wirbels&auml;ulengesch&auml;digte
LOCATION:
CLASS:PUBLIC
DTSTART:20260721T100000Z
DTEND:20260721T120000Z
END:VEVENT
END:VCALENDAR