BEGIN:VCALENDAR
VERSION:2.0
PRODID:HAZ Events
BEGIN:VEVENT
UID:
DTSTAMP:1776767565
SUMMARY:Stammesrat und Rovertreffen
LOCATION:
CLASS:PUBLIC
DTSTART:20260720T171500Z
DTEND:20260720T191500Z
END:VEVENT
END:VCALENDAR