BEGIN:VCALENDAR
VERSION:2.0
PRODID:HAZ Events
BEGIN:VEVENT
UID:
DTSTAMP:1776872832
SUMMARY:Stammesrat und Rovertreffen
LOCATION:
CLASS:PUBLIC
DTSTART:20260427T171500Z
DTEND:20260427T191500Z
END:VEVENT
END:VCALENDAR