BEGIN:VCALENDAR
VERSION:2.0
PRODID:HAZ Events
BEGIN:VEVENT
UID:
DTSTAMP:1776846302
SUMMARY:Romm&eacute;gruppe &bdquo;Gut Spiel&ldquo;
LOCATION:FZH Vahrenwald
CLASS:PUBLIC
DTSTART:20260721T113000Z
DTEND:20260721T140000Z
END:VEVENT
END:VCALENDAR