BEGIN:VCALENDAR
VERSION:2.0
PRODID:HAZ Events
BEGIN:VEVENT
UID:
DTSTAMP:1776851633
SUMMARY:Wochenmarkt
LOCATION:Platz an der Friedenskirche
CLASS:PUBLIC
DTSTART:20260721T060000Z
DTEND:20260721T110000Z
END:VEVENT
END:VCALENDAR