BEGIN:VCALENDAR
VERSION:2.0
PRODID:HAZ Events
BEGIN:VEVENT
UID:
DTSTAMP:1776851696
SUMMARY:Wirbels&auml;ulengymnastik
LOCATION:SG 74
CLASS:PUBLIC
DTSTART:20260721T073000Z
DTEND:20260721T090000Z
END:VEVENT
END:VCALENDAR