BEGIN:VCALENDAR
VERSION:2.0
PRODID:HAZ Events
BEGIN:VEVENT
UID:
DTSTAMP:1776877581
SUMMARY:Konfirmandenunterricht und Teenkreis
LOCATION:
CLASS:PUBLIC
DTSTART:20260428T143000Z
DTEND:20260428T163000Z
END:VEVENT
END:VCALENDAR