BEGIN:VCALENDAR
VERSION:2.0
PRODID:HAZ Events
BEGIN:VEVENT
UID:
DTSTAMP:1776846628
SUMMARY:Bauen mit Lego
LOCATION:Stadt- und Schulbibliothek Bothfeld
CLASS:PUBLIC
DTSTART:20260501T120000Z
DTEND:20260501T150000Z
END:VEVENT
END:VCALENDAR