BEGIN:VCALENDAR
VERSION:2.0
PRODID:HAZ Events
BEGIN:VEVENT
UID:
DTSTAMP:1776811194
SUMMARY:Bilderbuchkino
LOCATION:Stadtbibliothek D&ouml;hren
CLASS:PUBLIC
DTSTART:20260507T140000Z
DTEND:20260507T160000Z
END:VEVENT
END:VCALENDAR