BEGIN:VCALENDAR
VERSION:2.0
PRODID:HAZ Events
BEGIN:VEVENT
UID:
DTSTAMP:1776840815
SUMMARY:Brazil Fitness Kurs
LOCATION:Caroline-Herschel-Realschule
CLASS:PUBLIC
DTSTART:20260721T170000Z
DTEND:20260721T180000Z
END:VEVENT
END:VCALENDAR