BEGIN:VCALENDAR
VERSION:2.0
PRODID:HAZ Events
BEGIN:VEVENT
UID:
DTSTAMP:1776767748
SUMMARY:Schach f&uuml;r Familien
LOCATION:FZH Vahrenwald
CLASS:PUBLIC
DTSTART:20260720T143000Z
DTEND:20260720T163000Z
END:VEVENT
END:VCALENDAR