BEGIN:VCALENDAR
VERSION:2.0
PRODID:HAZ Events
BEGIN:VEVENT
UID:
DTSTAMP:1776767689
SUMMARY:Chor ad Libitum
LOCATION:
CLASS:PUBLIC
DTSTART:20260720T173000Z
DTEND:20260720T193000Z
END:VEVENT
END:VCALENDAR